BEGIN:VCALENDAR
VERSION:2.0
PRODID:icalendar-ruby
CALSCALE:GREGORIAN
METHOD:PUBLISH
BEGIN:VEVENT
DTSTAMP:20260420T130820Z
UID:127-1111271@newwalk.me
DTSTART:20260517T140000Z
DTEND:20260517T153000Z
CLASS:PUBLIC
CREATED:20260416T150240
DESCRIPTION:Get ready for a powerful Youth Takeover Service where the next 
 generation leads the way. This is more than just a service\, it’s a mome
 nt to see young people on fire for God\, stepping into their calling and m
 aking an impact.\nJoin us for high-energy worship\, passionate expression\
 , and a dynamic word from our guest speaker\, Giselle Atenco. Come expecti
 ng God to move\, lives to be stirred\, and faith to be ignited.\nBring a y
 oung person with you and don’t miss what God is doing through this gener
 ation.
LAST-MODIFIED:20260416T150240
LOCATION:
SUMMARY:Youth Takeover Service
URL;VALUE=URI:https://www.newwalk.me/events/youth-takeover-service--127/202
 6-05-17
ATTACH;FILENAME=Screenshot-2026-04-16-at-3.00.26PM.png;FMTTYPE=image/png:ht
 tps://dq5pwpg1q8ru0.cloudfront.net/2026/04/16/19/02/39/180135cb-4097-4304-
 bd4e-b1e8ed9972f6/Screenshot-2026-04-16-at-3.00.26PM.png
END:VEVENT
END:VCALENDAR
