BEGIN:VCALENDAR
VERSION:2.0
PRODID:icalendar-ruby
CALSCALE:GREGORIAN
METHOD:PUBLISH
BEGIN:VEVENT
DTSTAMP:20260422T083619Z
UID:126-1111269@newwalk.me
DTSTART:20260524T140000Z
DTEND:20260524T160000Z
CLASS:PUBLIC
CREATED:20260416T143142
DESCRIPTION:Join us for Pentecost Sunday as we celebrate the outpouring of 
 the Holy Spirit and the birth of the Church. This is a powerful moment in 
 Scripture where God moved in a fresh way\, filling His people with boldnes
 s\, purpose\, and power.\nCome expecting a Spirit-filled service with pass
 ionate worship\, a timely message\, and a reminder that the same Spirit wh
 o moved in Acts 2 is still moving today.\nBring your family\, invite a fri
 end\, and let’s believe God to do something fresh in our lives.
LAST-MODIFIED:20260416T143142
LOCATION:
SUMMARY:Pentecost Sunday
URL;VALUE=URI:https://www.newwalk.me/events/pentecost-sunday--126/2026-05-2
 4
ATTACH;FILENAME=Pentecost.jpg;FMTTYPE=image/jpeg:https://dq5pwpg1q8ru0.clou
 dfront.net/2026/04/16/18/31/41/8d4e0e84-ba99-4384-aea6-9689efe24d4f/Pentec
 ost.jpg
END:VEVENT
END:VCALENDAR
