BEGIN:VCALENDAR
VERSION:2.0
PRODID:icalendar-ruby
CALSCALE:GREGORIAN
METHOD:PUBLISH
BEGIN:VEVENT
DTSTAMP:20260420T130450Z
UID:125-1110575@newwalk.me
DTSTART:20260510T140000Z
DTEND:20260510T160000Z
CLASS:PUBLIC
CREATED:20260416T103306
DESCRIPTION:Join us this Mother’s Day as we take time to honor and celebr
 ate the incredible women who have shaped our lives. Whether you’re a mom
 \, bringing your mom\, or remembering a loved one\, this will be a meaning
 ful and uplifting service for the whole family.\nCome expecting encouragem
 ent\, joy\, and a reminder of God’s love. We’d love to celebrate with 
 you.\n\nAcompáñanos este Día de las Madres mientras tomamos un tiempo p
 ara honrar y celebrar a las increíbles mujeres que han marcado nuestras v
 idas. Ya seas mamá\, estés trayendo a tu mamá\, o recordando a un ser q
 uerido\, este será un servicio significativo y edificante para toda la fa
 milia.\nVen con expectativa de recibir ánimo\, gozo y un recordatorio del
  amor de Dios. Nos encantaría celebrar contigo.
LAST-MODIFIED:20260416T103306
LOCATION:
SUMMARY:Mother's Day
URL;VALUE=URI:https://www.newwalk.me/events/mothers-day/2026-05-10
ATTACH;FILENAME=mothers-day-template.jpg;FMTTYPE=image/jpeg:https://dq5pwpg
 1q8ru0.cloudfront.net/2026/04/16/14/33/06/c9d2343d-8b0d-4d7c-8acd-9edbafbd
 9693/mothers-day-template.jpg
END:VEVENT
END:VCALENDAR
